BEGIN:VCALENDAR
VERSION:2.0
PRODID:-//Grüne Jugend Baden-Württemberg - ECPv4.6.10.1//NONSGML v1.0//EN
CALSCALE:GREGORIAN
METHOD:PUBLISH
X-WR-CALNAME:Grüne Jugend Baden-Württemberg
X-ORIGINAL-URL:https://alt.gjbw.de
X-WR-CALDESC:Veranstaltungen für Grüne Jugend Baden-Württemberg
BEGIN:VEVENT
DTSTART;VALUE=DATE:20140425
DTEND;VALUE=DATE:20140428
DTSTAMP:20260422T002047
CREATED:20140220T222405Z
LAST-MODIFIED:20140220T222405Z
UID:1395-1398384000-1398643199@alt.gjbw.de
SUMMARY:Bundeskongress
DESCRIPTION:
URL:https://alt.gjbw.de/veranstaltung/bundeskongress/
END:VEVENT
END:VCALENDAR