BEGIN:VCALENDAR
VERSION:2.0
PRODID:-//Grüne Jugend Baden-Württemberg - ECPv4.6.10.1//NONSGML v1.0//EN
CALSCALE:GREGORIAN
METHOD:PUBLISH
X-WR-CALNAME:Grüne Jugend Baden-Württemberg
X-ORIGINAL-URL:https://alt.gjbw.de
X-WR-CALDESC:Veranstaltungen für Grüne Jugend Baden-Württemberg
BEGIN:VEVENT
DTSTART;TZID=UTC+1:20170924T080000
DTEND;TZID=UTC+1:20170924T180000
DTSTAMP:20260421T152113
CREATED:20170209T170826Z
LAST-MODIFIED:20170209T170826Z
UID:3093-1506240000-1506276000@alt.gjbw.de
SUMMARY:Bundestagswahl
DESCRIPTION:
URL:https://alt.gjbw.de/veranstaltung/bundestagswahl/
END:VEVENT
END:VCALENDAR