BEGIN:VCALENDAR
VERSION:2.0
PRODID:-//Grüne Jugend Baden-Württemberg - ECPv4.6.10.1//NONSGML v1.0//EN
CALSCALE:GREGORIAN
METHOD:PUBLISH
X-WR-CALNAME:Grüne Jugend Baden-Württemberg
X-ORIGINAL-URL:https://alt.gjbw.de
X-WR-CALDESC:Veranstaltungen für Grüne Jugend Baden-Württemberg
BEGIN:VEVENT
DTSTART;TZID=UTC+1:20160709T143000
DTEND;TZID=UTC+1:20160709T180000
DTSTAMP:20260421T171855
CREATED:20160622T131816Z
LAST-MODIFIED:20160622T131816Z
UID:2616-1468074600-1468087200@alt.gjbw.de
SUMMARY:Christopher Street Day Freiburg 
DESCRIPTION:Am Samstag den 9. Juli zieht die CSD-Parade unter dem Motto „Mein Herz schlägt gegen Rechts“ queer durch Freiburg. \n
URL:https://alt.gjbw.de/veranstaltung/christopher-street-day-freiburg/
LOCATION:Freiburg
END:VEVENT
END:VCALENDAR