BEGIN:VCALENDAR
VERSION:2.0
PRODID:-//Grüne Jugend Baden-Württemberg - ECPv4.6.10.1//NONSGML v1.0//EN
CALSCALE:GREGORIAN
METHOD:PUBLISH
X-WR-CALNAME:Grüne Jugend Baden-Württemberg
X-ORIGINAL-URL:https://alt.gjbw.de
X-WR-CALDESC:Veranstaltungen für Grüne Jugend Baden-Württemberg
BEGIN:VEVENT
DTSTART;TZID=UTC+1:20160813T150000
DTEND;TZID=UTC+1:20160813T183000
DTSTAMP:20260421T170713
CREATED:20160622T134827Z
LAST-MODIFIED:20160622T134827Z
UID:2622-1471100400-1471113000@alt.gjbw.de
SUMMARY:Christopher Street Day Mannheim
DESCRIPTION:Das Motto dieses Jahr heißt: „ICH WILL …“ \nDer Höhepunkt des CSD Rhein-Neckar: Zeigt bei der CSD Demonstration eure Forderungen für eine wirkliche Gleichberechtigung nicht normativ heterosexueller Menschen. \nDie Demo-Parade ist als politische Demonstration zum einen ein Sprachrohr um unseren Forderungen zur Gleichberechtigung Gehör zu verschaffen. Zum anderen ist sie eine Einladung für alle Menschen aus der Rhein-Neckar Region und alle Besucher\, egal ob homo\, bi\, trans\, inter oder hetero\, in Kontakt zu Ansichten\, Lebensentwürfen und der Lebenswelt anderer Menschen zu kommen\, die man sonst im Alltag vielleicht gar nicht wahrnimmt. Das darf und soll sogar auch Spaß machen. \n14:00 Uhr: Eröffnungsveranstaltung am CSD Rhein-Neckar LKW zwischen K1/U1 Eingang Mömax und Woolworth \n14:30 – 17:00 Uhr: CSD Demonstration  \nweitere Infos auf der Homepage des CSD Rhein-Neckar oder bei facebook. \n
URL:https://alt.gjbw.de/veranstaltung/christopher-street-day-mannheim/
LOCATION:Mannheim
END:VEVENT
END:VCALENDAR