BEGIN:VCALENDAR
VERSION:2.0
PRODID:-//Grüne Jugend Baden-Württemberg - ECPv4.6.10.1//NONSGML v1.0//EN
CALSCALE:GREGORIAN
METHOD:PUBLISH
X-WR-CALNAME:Grüne Jugend Baden-Württemberg
X-ORIGINAL-URL:https://alt.gjbw.de
X-WR-CALDESC:Veranstaltungen für Grüne Jugend Baden-Württemberg
BEGIN:VEVENT
DTSTART;TZID=UTC+1:20180728T153000
DTEND;TZID=UTC+1:20180728T190000
DTSTAMP:20260421T115637
CREATED:20180606T081319Z
LAST-MODIFIED:20180724T085514Z
UID:4461-1532791800-1532804400@alt.gjbw.de
SUMMARY:CSD-Parade Stuttgart
DESCRIPTION:Feiert mit uns den CSD in Stuttgart! \nEs wieder soweit! \nAm kommenden Samstag den 28.07.18 findet die alljährliche CSD-Parade in der Landeshauptstadt statt. Auch wir sind dabei und zeigen: Wir sind queer und wir sind fabulous! Feiert mit uns queere Lebensrealitäten und demonstriert mit uns für ein gesellschaftliches Klima der Akzeptanz von Lesben\, Schwulen\, Bisexuellen\, Transsexuellen\, Transgender\, Intersexuellen oder einfach queeren Menschen. So lange wir uns auf der Straße nicht angstfrei bewegen können\, gehen wir gesammelt auf die Straße\, um zu sagen: Queer pride worldwide! \nUnsere Fußgruppe trifft sich um 15.00 Uhr am Erwin-Schöttle-Platz\, um unter der Startnummer 16 vor dem Wagen der BÜNDNIS 90/DIE GRÜNEN Baden-Württemberg und Grüne Stuttgart zu laufen. \nDie Fahrtkosten werden allen GJ-Mitgliedern zum Bahncard 50-Tarif erstattet. \nBringt gute Laune\, Limo und fantasievolle Transpis mit!\n \n
URL:https://alt.gjbw.de/veranstaltung/csd-parade-stuttgart/
ATTACH;FMTTYPE=image/jpeg:https://alt.gjbw.de/wp-content/uploads/2018/06/0001.jpg
END:VEVENT
END:VCALENDAR