BEGIN:VCALENDAR
VERSION:2.0
PRODID:-//Grüne Jugend Baden-Württemberg - ECPv4.6.10.1//NONSGML v1.0//EN
CALSCALE:GREGORIAN
METHOD:PUBLISH
X-WR-CALNAME:Grüne Jugend Baden-Württemberg
X-ORIGINAL-URL:https://alt.gjbw.de
X-WR-CALDESC:Veranstaltungen für Grüne Jugend Baden-Württemberg
BEGIN:VEVENT
DTSTART;VALUE=DATE:20190727
DTEND;VALUE=DATE:20190728
DTSTAMP:20260421T082917
CREATED:20190627T082141Z
LAST-MODIFIED:20190627T082839Z
UID:5089-1564185600-1564271999@alt.gjbw.de
SUMMARY:CSD Stuttgart
DESCRIPTION:
URL:https://alt.gjbw.de/veranstaltung/csd-stuttgart-2/
ATTACH;FMTTYPE=image/jpeg:https://alt.gjbw.de/wp-content/uploads/2019/06/2019_06_27_Header_CSD_Slider.jpg
END:VEVENT
END:VCALENDAR