BEGIN:VCALENDAR
VERSION:2.0
PRODID:-//Grüne Jugend Baden-Württemberg - ECPv4.6.10.1//NONSGML v1.0//EN
CALSCALE:GREGORIAN
METHOD:PUBLISH
X-WR-CALNAME:Grüne Jugend Baden-Württemberg
X-ORIGINAL-URL:https://alt.gjbw.de
X-WR-CALDESC:Veranstaltungen für Grüne Jugend Baden-Württemberg
BEGIN:VEVENT
DTSTART;TZID=UTC+1:20180306T100000
DTEND;TZID=UTC+1:20180306T133000
DTSTAMP:20260421T133812
CREATED:20180117T132717Z
LAST-MODIFIED:20180117T133958Z
UID:3782-1520330400-1520343000@alt.gjbw.de
SUMMARY:Digitalisierung der Energiewende - Ein Landtagsbesuch
DESCRIPTION:Die Grüne Jugend Baden-Württemberg lädt zum Gespräch über die Digitalisierung der Energiewende mit den Landtagsabgeordneten Jutta Niemann\, Energiepolitische Sprecherin und Bettina Lisbach\, AK-Vorsitzende Umwelt\, Energie\, Klima- und Naturschutz sowie Holger Fischer\, Parlamentarischer Berater für Umwelt\, Klima\, Energiewirtschaft und Naturschutz\, in den baden-württembergischen Landtag ein. Das Gespräch findet im Haus der Abgeordneten statt\, danach werden wir gemeinsam zu Mittag essen. \nAnmeldung:    Verbindlich bis zum 7. Februar per E-Mail an bildungsreferentin@gjbw.de \nDie Fahrtkosten und das Mittagessen werden von der GJBW übernommen \nAuf Wunsch wird eine Schulbefreiung ausgestellt. \n  \nZeitplan:  \n10:00 Uhr      Treffen vor dem Haus der Abgeordneten\, Konrad-Adenauer-Straße 12\, 70173 Stuttgart \n10:30 Uhr      Gespräch zur „Digitalisierung der Energiewende“\, anschließend Führung durch den Landtag \n12:30 Uhr      Mittagessen \n
URL:https://alt.gjbw.de/veranstaltung/digitalisierung-der-energiewende-ein-landtagsbesuch/
LOCATION: Konrad-Adenauer-Straße 12\, 70173 Stuttgart
END:VEVENT
END:VCALENDAR