BEGIN:VCALENDAR
VERSION:2.0
PRODID:-//Grüne Jugend Baden-Württemberg - ECPv4.6.10.1//NONSGML v1.0//EN
CALSCALE:GREGORIAN
METHOD:PUBLISH
X-WR-CALNAME:Grüne Jugend Baden-Württemberg
X-ORIGINAL-URL:https://alt.gjbw.de
X-WR-CALDESC:Veranstaltungen für Grüne Jugend Baden-Württemberg
BEGIN:VEVENT
DTSTART;TZID=UTC+1:20151128T143000
DTEND;TZID=UTC+1:20151128T170000
DTSTAMP:20260421T204221
CREATED:20151008T112214Z
LAST-MODIFIED:20151009T183445Z
UID:2167-1448721000-1448730000@alt.gjbw.de
SUMMARY:Climate Parade in Stuttgart
DESCRIPTION:Anlässlich der UN-Klimakonferenz in de Paris COP21 wird es in Stuttgart eine Klimademo geben. \nWeitere Infos gibts in Kürze. \n
URL:https://alt.gjbw.de/veranstaltung/dont-melt-our-future-klimaschutzdemo-in-stuttgart/
LOCATION:Stuttgart
END:VEVENT
END:VCALENDAR