BEGIN:VCALENDAR
VERSION:2.0
PRODID:-//Grüne Jugend Baden-Württemberg - ECPv4.6.10.1//NONSGML v1.0//EN
CALSCALE:GREGORIAN
METHOD:PUBLISH
X-WR-CALNAME:Grüne Jugend Baden-Württemberg
X-ORIGINAL-URL:https://alt.gjbw.de
X-WR-CALDESC:Veranstaltungen für Grüne Jugend Baden-Württemberg
BEGIN:VEVENT
DTSTART;VALUE=DATE:20140523
DTEND;VALUE=DATE:20140524
DTSTAMP:20260422T001924
CREATED:20140505T123018Z
LAST-MODIFIED:20140505T123047Z
UID:1599-1400803200-1400889599@alt.gjbw.de
SUMMARY:Europa-Aktion in Stuttgart
DESCRIPTION:
URL:https://alt.gjbw.de/veranstaltung/europa-aktion-stuttgart/
END:VEVENT
END:VCALENDAR