BEGIN:VCALENDAR
VERSION:2.0
PRODID:-//Grüne Jugend Baden-Württemberg - ECPv4.6.10.1//NONSGML v1.0//EN
CALSCALE:GREGORIAN
METHOD:PUBLISH
X-WR-CALNAME:Grüne Jugend Baden-Württemberg
X-ORIGINAL-URL:https://alt.gjbw.de
X-WR-CALDESC:Veranstaltungen für Grüne Jugend Baden-Württemberg
BEGIN:VEVENT
DTSTART;TZID=UTC+1:20140322T110000
DTEND;TZID=UTC+1:20140322T173000
DTSTAMP:20260422T001805
CREATED:20140220T221849Z
LAST-MODIFIED:20140311T110417Z
UID:1387-1395486000-1395509400@alt.gjbw.de
SUMMARY:Europa-Seminar
DESCRIPTION:
URL:https://alt.gjbw.de/veranstaltung/europa-seminar/
LOCATION:Stuttgart\, LGS
END:VEVENT
END:VCALENDAR