BEGIN:VCALENDAR
VERSION:2.0
PRODID:-//Grüne Jugend Baden-Württemberg - ECPv4.6.10.1//NONSGML v1.0//EN
CALSCALE:GREGORIAN
METHOD:PUBLISH
X-WR-CALNAME:Grüne Jugend Baden-Württemberg
X-ORIGINAL-URL:https://alt.gjbw.de
X-WR-CALDESC:Veranstaltungen für Grüne Jugend Baden-Württemberg
BEGIN:VEVENT
DTSTART;TZID=UTC+1:20180507T100000
DTEND;TZID=UTC+1:20180507T130000
DTSTAMP:20260421T120150
CREATED:20180123T091117Z
LAST-MODIFIED:20180123T091117Z
UID:3797-1525687200-1525698000@alt.gjbw.de
SUMMARY:Europatag im baden-württembergischen Landtag
DESCRIPTION:Im Rahmen der bundesweiten Europawoche lädt der Landtag von Baden-Württemberg am 7. Mai 2018 Schulklassen aus ganz Baden-Württemberg zum Europatag ein. Auch die GJBW wird bei diesem Thementag vertreten sein und freut sich darauf\, mit den jungen Besucher*innen über Europa zu diskutieren! \n
URL:https://alt.gjbw.de/veranstaltung/europatag-im-baden-wuerttembergischen-landtag/
LOCATION:Konrad-Adenauer-Straße 3\, 70173 Stuttgart
END:VEVENT
END:VCALENDAR