BEGIN:VCALENDAR
VERSION:2.0
PRODID:-//Grüne Jugend Baden-Württemberg - ECPv4.6.10.1//NONSGML v1.0//EN
CALSCALE:GREGORIAN
METHOD:PUBLISH
X-WR-CALNAME:Grüne Jugend Baden-Württemberg
X-ORIGINAL-URL:https://alt.gjbw.de
X-WR-CALDESC:Veranstaltungen für Grüne Jugend Baden-Württemberg
BEGIN:VEVENT
DTSTART;TZID=UTC+1:20180210T101500
DTEND;TZID=UTC+1:20180210T163000
DTSTAMP:20260421T134428
CREATED:20180205T115013Z
LAST-MODIFIED:20180205T115013Z
UID:3826-1518257700-1518280200@alt.gjbw.de
SUMMARY:Fachgespräch "Mobiles Baden-Württemberg – Verkehrsinfrastruktur 2030"
DESCRIPTION:Wie geht es weiter mit der Mobilität in Baden-Württemberg? Dieser Frage wird das Grüne Fachgespräch „Mobiles Baden-Württemberg – Verkehrsinfrastruktur 2030“ nachgehen. Das Gespräch wird von der GRÜNEN JUGEND Baden-Württemberg gemeinsam mit der Landesarbeitsgemeinschaft (LAG) Mobilität unter der Leitung von Hermino Katzenstein MdL und BÜNDNIS 90/DIE GRÜNEN Baden-Württemberg ausgerichtet und ist mitgliederöffentlich. Anwesend sein werden u. A. Verkehrsminister Winne Hermann\, Matthias Gastel MdB und Margit Stumpp MdB. Grundlage des Fachgesprächs bilden Studien zur Zukunft der Mobilität des baden-württembergischen Verkehrsministeriums und der Baden-Württemberg-Stiftung: \nhttps://vm.baden-wuerttemberg.de/de/service/publikation/did/verkehrsinfrastruktur-2030-ein-klimaschutzszenario-fuer-baden-wuerttemberg/ \nhttps://www.bwstiftung.de/bildung/programme/bildung-fuer-nachhaltige-entwicklung-buergerbildung/mobiles-bw/ \n  \nPROGRAMM \n10:15 Uhr Ankommen im Landtag \n10:30 Uhr Begrüßung: LAG\, Grüne Jugend und Bündnis 90/ Die Grünen \n10:45 Uhr Startimpuls: Winne Hermann\, MdL Verkehrsminister des Landes Baden-Württemberg Nachfragen \n11:15 Uhr „Verkehrsinfrastruktur 2030 – Ein Klimaschutzszenario für Baden-Württemberg“: Vorstellung der Studie durch Dr. Wolf Engelbach\, Dr. Monika Herrmann-Lobreyer\, VM Diskussion \n12:30 Uhr Mittagspause \n13:00 Uhr „Mobiles Baden-Württemberg“: Blockweise Vorstellung und Diskussion der Studie durch Klaus Amler\, Projektträger \n16:00 Uhr Abschluss und Ausblick \n16:30 Uhr Ende \n  \nBitte meldet euch bis zum 07. Februar namentlich an unter buero@gjbw.de. Betreff: Fachgespräch. \n  \nWir freuen uns auf Euch! \n
URL:https://alt.gjbw.de/veranstaltung/fachgespraech-mobiles-baden-wuerttemberg-verkehrsinfrastruktur-2030/
LOCATION:Konrad-Adenauer-Straße 3\, 70173 Stuttgart
END:VEVENT
END:VCALENDAR