BEGIN:VCALENDAR
VERSION:2.0
PRODID:-//Grüne Jugend Baden-Württemberg - ECPv4.6.10.1//NONSGML v1.0//EN
CALSCALE:GREGORIAN
METHOD:PUBLISH
X-WR-CALNAME:Grüne Jugend Baden-Württemberg
X-ORIGINAL-URL:https://alt.gjbw.de
X-WR-CALDESC:Veranstaltungen für Grüne Jugend Baden-Württemberg
BEGIN:VEVENT
DTSTART;TZID=UTC+1:20140412T110000
DTEND;TZID=UTC+1:20140412T170000
DTSTAMP:20260422T002240
CREATED:20140220T222140Z
LAST-MODIFIED:20140306T193759Z
UID:1391-1397300400-1397322000@alt.gjbw.de
SUMMARY:Frauen bilden Banden
DESCRIPTION:
URL:https://alt.gjbw.de/veranstaltung/frauen-bilden-banden/
LOCATION:Stuttgart\, LGS
END:VEVENT
END:VCALENDAR