BEGIN:VCALENDAR
VERSION:2.0
PRODID:-//Grüne Jugend Baden-Württemberg - ECPv4.6.10.1//NONSGML v1.0//EN
CALSCALE:GREGORIAN
METHOD:PUBLISH
X-WR-CALNAME:Grüne Jugend Baden-Württemberg
X-ORIGINAL-URL:https://alt.gjbw.de
X-WR-CALDESC:Veranstaltungen für Grüne Jugend Baden-Württemberg
BEGIN:VEVENT
DTSTART;TZID=UTC+1:20151204T173000
DTEND;TZID=UTC+1:20151204T220000
DTSTAMP:20260421T202331
CREATED:20151202T112529Z
LAST-MODIFIED:20151202T142648Z
UID:2251-1449250200-1449266400@alt.gjbw.de
SUMMARY:Frauen* bildet Banden!
DESCRIPTION:Anreise: vom HBF Heidelberg zur Haltestelle Betriebshof fahren (ca. 5 Minuten)\nÜbernachtung: In der Jugendherberge in Heidelberg\, also keine Schlafsäcke und Isomatten nötig!\nKosten: Keine Anmeldegebühr\, Fahrtkosten werden für Mitglieder zum BC50-Tarif erstattet.\nVerpflegung: vegan \nAm Freitag\, den 4.12. werden wir uns in Heidelberg treffen um uns auszutauschen\, uns zu vernetzen und gemeinsam etwas über selbstsicheres Auftreten und politische Durchsetzungsfähigkeit zu lernen.\nEs erwartet Euch ein spannender 2-stündiger Workshop\, angeleitet von einer Kommunikationstrainerin mit anschließendem Abendessen\, einem feministischen Film und nettem gemeinsamen Ausklang des Abends. Natürlich wird es danach auch eine Übernachtungsmöglichkeit und ein Frühstück am nächsten Morgen geben. \nGerne könnt ihr Samstag und Sonntag noch in Heidelberg bleiben\, um im Anschluss an das Frauen* bildet Banden am Green Skills Seminar der GJBW teilzunehmen! \nDie Fahrtkosten erstatten wir Euch wie immer zum Bahn-Card-50-Tarif. \nAblauf: \n17.30 Ankommen und Kennenlernrunde\n17.45 Workshop zu selbstsicherem Auftreten und Durchsetzen mit Kommunikationstrainerin Doris Valentin\n20.30 Abendessen mit Erfahrungsaustausch\n22.00 Feministischer Film und Abendprogramm\n—> Frühstück am nächsten Morgen \nZielgruppe: Frauen*\, Inter- und Transpersonen.\nAlle feministisch-interessierten Männer dürfen sich gerne beim nächsten Frauen- und Genderabend an einer LMV mit uns austauschen. \n
URL:https://alt.gjbw.de/veranstaltung/frauen-bildet-banden/
LOCATION:Bergheimer Str. 147 \, Landfried\, 4. OG\, Heidelberg
END:VEVENT
END:VCALENDAR