BEGIN:VCALENDAR
VERSION:2.0
PRODID:-//Grüne Jugend Baden-Württemberg - ECPv4.6.10.1//NONSGML v1.0//EN
CALSCALE:GREGORIAN
METHOD:PUBLISH
X-WR-CALNAME:Grüne Jugend Baden-Württemberg
X-ORIGINAL-URL:https://alt.gjbw.de
X-WR-CALDESC:Veranstaltungen für Grüne Jugend Baden-Württemberg
BEGIN:VEVENT
DTSTART;TZID=UTC+1:20170303T171500
DTEND;TZID=UTC+1:20170304T160000
DTSTAMP:20260421T153239
CREATED:20170209T164808Z
LAST-MODIFIED:20170214T105444Z
UID:3082-1488561300-1488643200@alt.gjbw.de
SUMMARY:Still 
DESCRIPTION: Dieses Seminar richtet sich an Menschen aller Geschlechter! Euch erwarten spannende Workshops\, u.a. zu Geschlechterrollen in der Popkultur und Netzfeminismus. Beginnen wollen wir allerdings mit einer Vernetzungsphase für Frauen\, Inter und Trans am Freitag: Beim „Kamingespräch“ könnt Ihr in lockerer Runde mit erfahrenen Politikerinnen ins Gespräch kommen.\n\n\nDu willst teilnehmen? Wunderbar\, dann melde dich an bei Eva (bildungsreferentin@gjbw.de) unter der Angabe\, ob du einen Übernachtungsplatz in der Jugendherberge benötigst. Wichtig: Für die Jugendherberge brauchen wir verbindlich bis zum 20. Februar eine Anmeldung!\nFür Mitglieder der Grünen Jugend Baden-Württemberg erstatten wir wie gewohnt die Fahrtkosten bis zum Bahncard-50-Tarif. Wir bitten Euch\, soweit möglich\, (Gruppen-)Tickets des Nahverkehrs zu nutzen. Die Teilnahme ist kostenfrei\, für vegane Verpflegung wird gesorgt. Auch Interessierte Nicht-Mitglieder sind herzlich willkommen!\n\nPROGRAMM\n\nFreitag\, 3. März\nin der grünen Landesgeschäftsstelle\, Königstr. 78\, 70173 Stuttgart (U-/S-Haltestelle Rotebühlplatz/Stadtmitte)\n\n17:30 – 19:00\n*Vernetzung für Frauen\, Inter und Trans*\nKamingespräch mit Abendessen\nDu bist neu in der Grünen Jugend und/oder möchtest politisch aktiver werden? Dann nutze die Chance und tausche dich beim „Kamingespräch“ in lockerer Runde mit erfahrenen Politikerinnen aus: Darüber\, wie man sich politisch engagieren kann\, welche persönlichen Erfahrungen du und sie gemacht haben und wie man mit Herausforderungen und Hindernissen umgehen kann. Bei leckerem Abendessen könnt ihr alle Fragen stellen\, die euch unter den Nägeln brennen.\nMit Sandra Detzer\, Landesvorsitzende der Grünen Baden-Württemberg\nJessi Messinger\, Landesvorstandsmitglied der Grünen BW und ehemalige GJ-Landessprecherin\nCharlotte Schneidewind-Hartnagel\, Bundestagskandidatin und ehemalige frauenpolitische Sprecherin der Landtagsfraktion\n\n19:15 – 20:45\n*für alle*\nGeschlechterrollen in der Popkultur (ebenfalls mit Abendessen)\nEntführte Prinzessin oder Superheldin\, starker Macho oder … – welche Vorstellungen über Geschlechterrollen werden in der Popkultur gefestigt oder aufgebrochen? Diesen Fragen wollen wir unter anderem anhand von Disney-Filmen und der Serie „Transparent“ nachgehen. Videos angucken wird dabei natürlich auch nicht zu kurz kommen.\nMit Julia Link & Vicky Kruse\n\nim Anschluss gemeinsame Abendgestaltung\nÜbernachtung: Jugendherberge Stuttgart International\, Haußmannstr. 27\, 70188 Stuttgart\n\nSamstag\, 4. März\nim Kulturzentrum Merlin\, Augustenstr. 72\, 70178 Stuttgart (S-Haltestelle Feuersee)\n\n11:00 – 13:00\n\n*für alle*\nWorkshop\nmit Alexandra Pater\, Mitglied im Bundesvorstand und Frauen-\, Inter-\, Trans- und Genderpolitische Sprecherin der Grünen Jugend (angefragt)\n\n\n13:00 – 14:00 Mittagessen\n\n14:00 – 15:30\n*für alle*\nWorkshop zu Netzfeminismus\n#aufschrei\, #ausnahmslos – feministischer Aktivismus im Internet kann wichtige gesellschaftliche Debatten auslösen. Was ist das eigentich\, Netzfeminismus? Welche feministischen und andere emanzipatorischen Kämpfe sind gerade wichtig? Und wie kannst du mitmachen?\nmit Lavinia Steiner\n\n15:30 – 16:00 Kaffeepause\n\nAbreise\n
URL:https://alt.gjbw.de/veranstaltung/frauen-und-genderpolitisches-seminar/
LOCATION:Stuttgart
END:VEVENT
END:VCALENDAR