BEGIN:VCALENDAR
VERSION:2.0
PRODID:-//Grüne Jugend Baden-Württemberg - ECPv4.6.10.1//NONSGML v1.0//EN
CALSCALE:GREGORIAN
METHOD:PUBLISH
X-WR-CALNAME:Grüne Jugend Baden-Württemberg
X-ORIGINAL-URL:https://alt.gjbw.de
X-WR-CALDESC:Veranstaltungen für Grüne Jugend Baden-Württemberg
BEGIN:VEVENT
DTSTART;VALUE=DATE:20190412
DTEND;VALUE=DATE:20190415
DTSTAMP:20260421T083645
CREATED:20190227T102209Z
LAST-MODIFIED:20190304T113411Z
UID:4969-1555027200-1555286399@alt.gjbw.de
SUMMARY:From Intention to Change - Kampagnen-Bootcamp für junggrüne Locals
DESCRIPTION:Du kandidierst bei der Kommunalwahl\, bist Ortsgruppensprecher*in\, Wahlkampfkoordinator*in oder einfach Kampagnen-Begeisterte*r? Bei unserem Kampagnen-Bootcamp für junggrüne Locals bekommst Du alles\, was Du zum Überleben in der heißen Wahlkampfphase brauchst! \nDich erwartet ein Rhetoriktraining\, bei dem Du souveränes Auftreten bei Reden und Podiumsdiskussionen übst\, Du bekommst Handwerkszeug zur Kommunikation mit den Bürger*innen an der Haustüre\, am Infostand oder in der Kneipe und Du erfährst\, wie Du deine lokale Pressearbeit professionalisieren und Deine Social-Media-Kanäle noch effektiver einsetzen kannst. \nAußerdem legen wir mit einem Fotoshooting und einem Videodreh den Grundstein für die landesweite Social-Media-Kampagne zur Unterstützung unserer lokalen Kandidierenden. Dein professionelles Foto kannst Du ebenfalls für Deine lokale Presse- und Social-Media-Arbeit verwenden. \nAuch der Erfahrungsaustausch mit anderen Kandidat*innen und junggrünen Kommunalpolitiker*innen wird nicht zu kurz kommen! \nDich erwarten zwei Übernachtungen in einer tollen Tagungslocation inklusive veganer Vollverpflegung\, professionelle Kandidat*innen-Fotos und praxisorientierte Workshops von Expert*innen\, aus denen Du eine ganze Menge mitnehmen wirst – für den Wahlkampf und darüber hinaus! \nUm das Kampagnen-Bootcamp für junggrüne Locals anbieten zu können\, müssen wir einen Unkostenbeitrag erheben. Die Teilnahmegebühr liegt bei 30 Euro für Mitglieder der GRÜNEN JUGEND und 75 Euro für Nicht-Mitglieder. Sollte es Dir nicht möglich sein\, den Beitrag aufzubringen\, kannst Du Dich vertrauensvoll an Theresa King in unserer Geschäftsstelle wenden (buero[at]gjbw.de). Die Fahrtkosten für unsere Mitglieder übernehmen wir wie üblich zum BahnCard50-Tarif. \nTipp: Frag‘ doch mal bei Deiner kommunalen Liste oder Deinem Kreisverband nach\, ob sie die Teilnahmegebühr für Dich übernehmen! \nWir freuen uns auf Deine verbindliche Anmeldung bis zum 31. März an actlocal[at]gjbw.de \nWenn Du bei Anmeldung auch angibst\, aus welchem Ort Du kommst\, in welcher Funktion (Kandidat*in\, Ortsgruppensprecher*in\, Wahlkampfkoordinator*in\, Kampagnenbegeisterte*r) Du teilnimmst und wie alt Du bist\, erleichtert das unsere Planung! \n
URL:https://alt.gjbw.de/veranstaltung/from-intention-to-change-kampagnen-bootcamp-fuer-junggruene-locals/
ATTACH;FMTTYPE=image/jpeg:https://alt.gjbw.de/wp-content/uploads/2019/02/HPalt_Slider_Bootcamp.jpg
END:VEVENT
END:VCALENDAR