BEGIN:VCALENDAR
VERSION:2.0
PRODID:-//Grüne Jugend Baden-Württemberg - ECPv4.6.10.1//NONSGML v1.0//EN
CALSCALE:GREGORIAN
METHOD:PUBLISH
X-WR-CALNAME:Grüne Jugend Baden-Württemberg
X-ORIGINAL-URL:https://alt.gjbw.de
X-WR-CALDESC:Veranstaltungen für Grüne Jugend Baden-Württemberg
BEGIN:VEVENT
DTSTART;TZID=UTC+1:20190301T190000
DTEND;TZID=UTC+1:20190301T220000
DTSTAMP:20260421T083231
CREATED:20190131T161120Z
LAST-MODIFIED:20190131T161120Z
UID:4935-1551466800-1551477600@alt.gjbw.de
SUMMARY:Frühjahrsempfang
DESCRIPTION:Den Auftakt zu unserem Halbjahresthema „Innenpolitik“ macht Keynote-Speakerin Marina Weisband. Als politische Rednerin beschäftigt sie sich mit Privacy und der digitalen Gesellschaft. Das digitale Zeitalter stellt die Demokratie vor neue Herausforderungen. Wer verfügt über wessen Daten? Welche Rolle spielt der Staat in Sachen Überwachung und welche Interessen verfolgen Unternehmen bei der Sammlung von Daten? \n\nAußerdem freuen wir uns auf Grußworte von Uli Sckerl (stellv. Vorsitzender Grüne Fraktion Baden-Württemberg) und Oliver Hildenbrand (Landesvorsitzender BÜNDNIS 90/DIE GRÜNEN Baden-Württemberg). In den Waggons\, einer der letzten subkulturellen Locations Stuttgarts\, gibt es zudem Musik\, Getränke\, Fingerfood und eine anschließende Party. Durch den Abend führen unsere Landesprecher*innen Lena Christin Schwelling und Marcel Roth. \nWir freuen uns\, wenn ihr an diesem Abend richtig mit uns feiert und lange in Stuttgart bleibt. Meldet euch deshalb bitte bis zum 22. Februar unter buero@gjbw.de\, ob wir Schlafplätze für euch organisieren dürfen. \n\n
URL:https://alt.gjbw.de/veranstaltung/fruehjahrsempfang/
LOCATION:Nordbahnhofstraße 165\, Stuttgart
ATTACH;FMTTYPE=image/jpeg:https://alt.gjbw.de/wp-content/uploads/2019/01/2019_01_31_Frühjahrsempfang_Header_website-1.jpg
END:VEVENT
END:VCALENDAR