BEGIN:VCALENDAR
VERSION:2.0
PRODID:-//Grüne Jugend Baden-Württemberg - ECPv4.6.10.1//NONSGML v1.0//EN
CALSCALE:GREGORIAN
METHOD:PUBLISH
X-WR-CALNAME:Grüne Jugend Baden-Württemberg
X-ORIGINAL-URL:https://alt.gjbw.de
X-WR-CALDESC:Veranstaltungen für Grüne Jugend Baden-Württemberg
BEGIN:VEVENT
DTSTART;TZID=UTC+1:20181103T110000
DTEND;TZID=UTC+1:20181103T210000
DTSTAMP:20260421T145235
CREATED:20181025T122510Z
LAST-MODIFIED:20181025T122749Z
UID:4820-1541242800-1541278800@alt.gjbw.de
SUMMARY:GetACTIVE.Lab
DESCRIPTION:Gemeinsam für starke\, junggrüne Ergebnisse bei der Kommunalwahl 2019!\nIn den letzten Wochen haben wir viel darüber diskutiert\, warum es wichtig ist\, dass junge Menschen auf die kommunalen Listen kommen und welche Themen für uns in der Kommunalpolitik besonders wichtig sein können. Auf unserem Seminar am 3. und 4. November geht es nun darum\, wie uns dies am besten gelingen kann. \n  \nPROGRAMM \nSamstag\, 3. November  \n11.00 Uhr       Ankommen \n11.30 Uhr      Workshop „1×1 der Kommunalpolitik – Gestaltungsmöglichkeiten im Gemeinderat“ \n13.00 Uhr      Workshop „Lokale Social Media & Pressearbeit“ \n14.00 Uhr      Mittagspause \n14.45 Uhr      Kampagnenwerkstatt – Wie tragen wir unsere Ideen 2019 auf die Straße? \n18.30 Uhr      Abendessen \n19.30 Uhr      Ortsgruppentreffen – Erfahrungsaustausch\, LMV Vorbereitung\, Ausklang \n  \nSonntag\, 4. November  \n10.00 Uhr      Vernetzungsfrühstück junge Frauen\, Inter* und Transpersonen \n  \nZur besseren Planung bitten wir um eine kurze Anmeldung an actlocal[at]gjbw.de \nÜbernachtungsmöglichkeiten organisieren wir mit einer Bettenbörse. Solltet Ihr eine Übernachtungsmöglichkeit brauchen\, meldet Euch bitte bis spätestens 1. November an. \nFahrtkosten werden für Mitglieder der GRÜNEN JUGEND Baden-Württemberg wie immer zum BahnCard 50-Tarif oder Nahverkehrstarif erstattet. \nWir freuen uns auf Euch! \n
URL:https://alt.gjbw.de/veranstaltung/getactive-lab/
LOCATION:Königstraße 78\, Stuttgart
ATTACH;FMTTYPE=image/jpeg:https://alt.gjbw.de/wp-content/uploads/2018/10/photo_2018-10-25_14-03-47.jpg
END:VEVENT
END:VCALENDAR