BEGIN:VCALENDAR
VERSION:2.0
PRODID:-//Grüne Jugend Baden-Württemberg - ECPv4.6.10.1//NONSGML v1.0//EN
CALSCALE:GREGORIAN
METHOD:PUBLISH
X-WR-CALNAME:Grüne Jugend Baden-Württemberg
X-ORIGINAL-URL:https://alt.gjbw.de
X-WR-CALDESC:Veranstaltungen für Grüne Jugend Baden-Württemberg
BEGIN:VEVENT
DTSTART;TZID=UTC+1:20171216T150000
DTEND;TZID=UTC+1:20171217T100000
DTSTAMP:20260421T121428
CREATED:20171128T093532Z
LAST-MODIFIED:20171128T093630Z
UID:3744-1513436400-1513504800@alt.gjbw.de
SUMMARY:GJBW-Winterfeier
DESCRIPTION:Das Jahr 2017 neigt sich dem Ende zu und es wird wieder Zeit für die GJBW-Winterfeier. Am 16. Dezember lassen wir das spannende Jahr gemeinsam ausklingen – ab 15.00 Uhr ist alles für Euch bereit\, um 15.30 Uhr geht’s mit einem Workshop los\, am Abend werden wir eine spannende Green Debate veranstalten und danach wird gefeiert! \n  \nACHTUNG\nIn diesem Jahr findet die Winterfeier in Karlsruhe statt:\nKinder- und Jugendhaus Mühlburg\nFliederstraße 1\n76185 Karlsruhe \n  \nPROGRAMM \nAb 15.00 Uhr:\nAnkommen \n15.30 Uhr:\nWorkshop mit der feministischen Aktivistin Theresa Lehmann \n18.30 Uhr:\nGreen Debate mit Uli Sckerl\, MdL\, zur Innen- und Sicherheitspolitik \nIm Anschluss:\nGemeinsames Abendessen und gemütlicher Ausklang mit Schrottwichteln \nÜbernachtungsmöglichkeiten sind vorhanden (Isomatte und Schlafsack nicht vergessen!) und für Frühstück ist gesorgt. \n  \nSCHROTTWICHTELN\nWeihnachtszeit ist Gabenzeit und auch bei der GJBW-Winterfeier soll das Schenken nicht zu kurz kommen. Deshalb muss sich aber niemand in den vorweihnachtlichen Kaufrausch stürzen\, denn wir werden ein Schrottwichteln veranstalten. \n  \nFolgende Merkmale zeichnen ein gutes Schrott-Wichtel-Geschenk (SWG) aus: \n\nSWG’s sind niemals neu gekauft\, immer nutzlos und wurden häufig schon einige Male sinnlos umgezogen.\nSWG’s verstecken sich am liebsten in nie geöffneten Schubladen\, bodennahen Schrankfächern und dunklen Zimmerecken.\nSWG’s sind hübsch verpackt\, damit dem Beschenkten vor dem Öffnen ein kurzer Moment der irrationalen Vorfreude bleibt.\n\n  \nANMELDUNG\nDu möchtest teilnehmen? Dann melde Dich bis Mittwoch\, 6. Dezember\, per Mail bei Vera (bildungsreferentin@gjbw.de) an. Für Mitglieder der Grünen Jugend Baden-Württemberg erstatten wir wie gewohnt die Fahrtkosten bis zum Bahncard-50-Tarif. Wir bitten Euch\, soweit möglich\, (Gruppen-) Tickets des Nahverkehrs zu nutzen. Wir freuen uns\, wenn Ihr in Eurer Ortsgruppe auf die Winterfeier hinweist und auch Freund*innen einladet\, die nicht bei der Grünen Jugend sind – Interessierte sind herzlich willkommen! \nWir freuen uns auch Euch! \n
URL:https://alt.gjbw.de/veranstaltung/gjbw-winterfeier/
LOCATION: Fliederstraße 1\,  76185 Karlsruhe\, Deutschland
END:VEVENT
END:VCALENDAR