BEGIN:VCALENDAR
VERSION:2.0
PRODID:-//Grüne Jugend Baden-Württemberg - ECPv4.6.10.1//NONSGML v1.0//EN
CALSCALE:GREGORIAN
METHOD:PUBLISH
X-WR-CALNAME:Grüne Jugend Baden-Württemberg
X-ORIGINAL-URL:https://alt.gjbw.de
X-WR-CALDESC:Veranstaltungen für Grüne Jugend Baden-Württemberg
BEGIN:VEVENT
DTSTART;TZID=UTC+1:20160222T100000
DTEND;TZID=UTC+1:20160312T170000
DTSTAMP:20260421T183157
CREATED:20160204T110318Z
LAST-MODIFIED:20160227T001947Z
UID:2318-1456135200-1457802000@alt.gjbw.de
SUMMARY:#gjbwbus 
DESCRIPTION: DIE ERSTE WOCHE mit dem #gjbwbus! \n \nAm 13. März sind Landtagswahlen! Wir fahren drei Wochen lang mit zwei Bussen durch das Land und haben ein Ziel: Dass GRÜN weiterregiert! \n \nKommt bei uns vorbei! Redet mit uns über Politik! Und staubt nice Gimmicks ab: Wir haben nicht nur unerwartete Sprüche an Board\, bei uns kriegt ihr auch Longpapes\, Öko-Kullis und vor allem: Fotos von euch! Ihr könnt euch mit Windrädern\, Fahrrädern und Regenbögen fotografieren lassen und das ausgedruckte Foto direkt mit nach Hause nehmen. \nWir haben Bock auf euch! \n \nDu willst mitfahren und für ein offenes Baden-Württemberg unter Grün-Rot werben? Du willst andere junggrüne Menschen kennenlernen\, die sich für eine nachhaltige Zukunft einsetzen? Du willst mit Leuten auf der Straße über Flucht und Migration ins Gespräch kommen? \nDann sei dabei! Schicke eine formlose E-Mail an lena.wiesler@gjbw.de mit deinem Namen und deinem gewünschten Einsatzort und -zeitraum. Alles weitere übernehmen wir: Essen\, Trinken\, Unterkunft und ’ne geile Zeit. \n
URL:https://alt.gjbw.de/veranstaltung/gjbwbus/
END:VEVENT
END:VCALENDAR