BEGIN:VCALENDAR
VERSION:2.0
PRODID:-//Grüne Jugend Baden-Württemberg - ECPv4.6.10.1//NONSGML v1.0//EN
CALSCALE:GREGORIAN
METHOD:PUBLISH
X-WR-CALNAME:Grüne Jugend Baden-Württemberg
X-ORIGINAL-URL:https://alt.gjbw.de
X-WR-CALDESC:Veranstaltungen für Grüne Jugend Baden-Württemberg
BEGIN:VEVENT
DTSTART;TZID=UTC+1:20151205T093000
DTEND;TZID=UTC+1:20151206T150000
DTSTAMP:20260421T204018
CREATED:20151014T135447Z
LAST-MODIFIED:20151202T111750Z
UID:2184-1449307800-1449414000@alt.gjbw.de
SUMMARY:Green Skills Seminar mit Neumitgliederworkshop
DESCRIPTION:Vom 5. bis 6. Dezember erwarten Euch in Heidelberg spannende methodische Workshops zu Ortsgruppen-Skills\, Neumitglieder-Skills und Wahlkampf\, viel Raum für Vernetzung und vor allem gemeinsamer Spaß.\nErfahrt mehr über die Grüne Jugend allgemein\, über Presse-und Öffentlichkeitsarbeit und Social Media für Ortsgruppen mit jeweils theoretischem und praktischem Input und nehmt an vielen weiteren spannenden Skills-Wokshops teil. Wir freuen uns auf Euch. \nBeginn: 10.30 Uhr\, am Samstag 5.12.15\nOrt: Kreisgeschäftsstelle Heidelberg\, Bergheimer Str. 147\, Landfried\, 4. OG\nAnreise: vom HBF Heidelberg zur Haltestelle Betriebshof fahren (ca. 5 Minuten)\nÜbernachtung: In der Jugendherberge in Heidelberg\, es sind also keine Schlafsäcke und Isomatten nötig!\nKosten: Keine Anmeldegebühr\, Fahrtkosten werden für Mitglieder zum BC50-Tarif erstattet.\nVerpflegung: vegan \nVorläufiger Ablauf:\nSamstag\n09.30 Uhr erster Brunch\n10.30 Uhr Neumitglieder-Brunch und Vernetzung\, Wtf is GJBW?\n13.00 Uhr Workshopphasen\n13.00 Uhr Presse\n15.00 Uhr Moderation und Protokoll oder\nMitgliederwerbung\n16.30 Uhr Social Media\nanschließend gemeinsamer Einkauf und Kochen\, dann Abendprogramm \nSonntag\n10.00 Uhr Frühstück\n11.00 Uhr Landtagswahlinfo-Workshop\n11.30 Uhr Interaktivphase zum Landtagswahlkampf\n12.00 Uhr Mittagessen\n13.00 Uhr Haustürwahlkampf\n15.00 Uhr Gemeinsames Aufräumen \n
URL:https://alt.gjbw.de/veranstaltung/green-skills-seminar-mit-neumitgliederworkshop/
LOCATION:Bergheimer Str. 147\, 4. OG\, Heidelberg
END:VEVENT
END:VCALENDAR