BEGIN:VCALENDAR
VERSION:2.0
PRODID:-//Grüne Jugend Baden-Württemberg - ECPv4.6.10.1//NONSGML v1.0//EN
CALSCALE:GREGORIAN
METHOD:PUBLISH
X-WR-CALNAME:Grüne Jugend Baden-Württemberg
X-ORIGINAL-URL:https://alt.gjbw.de
X-WR-CALDESC:Veranstaltungen für Grüne Jugend Baden-Württemberg
BEGIN:VEVENT
DTSTART;TZID=UTC+1:20160221T153000
DTEND;TZID=UTC+1:20160221T170000
DTSTAMP:20260421T190047
CREATED:20160217T202156Z
LAST-MODIFIED:20160217T202156Z
UID:2361-1456068600-1456074000@alt.gjbw.de
SUMMARY:Grüne Antworten auf europ. Asylfragen (mit Ska Keller (MdEP))
DESCRIPTION:Wie stellen wir uns europäische Asylpolitik vor? Was muss in der aktuellen Situation getan werden? Wie kann Europa Menschen auf der Flucht helfen? \nGrüne Antworten auf europäische Asylfragen gibt euch am Sonntag Ska Keller\, Mitglied des Europäischen Parlaments und Abgeordnete der European Greens. \nAm Sonntag\, den 21.02.\nim Milliways in Stuttgart\num 15:30 Uhr. \nKommt vorbei\, trinkt nen Kaffee oder ’ne Cola und lernt Ska kennen. Wir freuen uns! \nNehmt hier am Facebook-Event teil! \nIn Zusammenarbeit mit der Grünen Jugend Stuttgart. \n
URL:https://alt.gjbw.de/veranstaltung/gruene-antworten-auf-europ-asylfragen-mit-ska-keller-mdep/
LOCATION:Hauptstätter Straße 57\, Stuttgart\, 70178\, Deutschland
ATTACH;FMTTYPE=image/jpeg:https://alt.gjbw.de/wp-content/uploads/2016/02/CbcTIFYWcAAZqOq.jpg-large.jpg
END:VEVENT
END:VCALENDAR