BEGIN:VCALENDAR
VERSION:2.0
PRODID:-//Grüne Jugend Baden-Württemberg - ECPv4.6.10.1//NONSGML v1.0//EN
CALSCALE:GREGORIAN
METHOD:PUBLISH
X-WR-CALNAME:Grüne Jugend Baden-Württemberg
X-ORIGINAL-URL:https://alt.gjbw.de
X-WR-CALDESC:Veranstaltungen für Grüne Jugend Baden-Württemberg
BEGIN:VEVENT
DTSTART;VALUE=DATE:20150817
DTEND;VALUE=DATE:20150818
DTSTAMP:20260421T204053
CREATED:20150805T153523Z
LAST-MODIFIED:20150805T153523Z
UID:2064-1439769600-1439855999@alt.gjbw.de
SUMMARY:Hanftour der GRÜNEN JUGEND in Stuttgart
DESCRIPTION:Im Rahmen einer bundesweiten Hanftour kommt der Bundesverband mit einem Riesenjoint und Infomaterialien nach Stuttgart\, um für die Cannabislegalisierung zu werben. \n
URL:https://alt.gjbw.de/veranstaltung/hanftour-der-gruenen-jugend-in-stuttgart/
LOCATION:Stuttgart
END:VEVENT
END:VCALENDAR