BEGIN:VCALENDAR
VERSION:2.0
PRODID:-//Grüne Jugend Baden-Württemberg - ECPv4.6.10.1//NONSGML v1.0//EN
CALSCALE:GREGORIAN
METHOD:PUBLISH
X-WR-CALNAME:Grüne Jugend Baden-Württemberg
X-ORIGINAL-URL:https://alt.gjbw.de
X-WR-CALDESC:Veranstaltungen für Grüne Jugend Baden-Württemberg
BEGIN:VEVENT
DTSTART;TZID=UTC+1:20150508T150000
DTEND;TZID=UTC+1:20150510T150000
DTSTAMP:20260421T222022
CREATED:20150205T095749Z
LAST-MODIFIED:20150205T095934Z
UID:1822-1431097200-1431270000@alt.gjbw.de
SUMMARY:Landesmitgliederversammlung
DESCRIPTION:tbc \n
URL:https://alt.gjbw.de/veranstaltung/landesmitgleiderversammlung/
END:VEVENT
END:VCALENDAR