BEGIN:VCALENDAR
VERSION:2.0
PRODID:-//Grüne Jugend Baden-Württemberg - ECPv4.6.10.1//NONSGML v1.0//EN
CALSCALE:GREGORIAN
METHOD:PUBLISH
X-WR-CALNAME:Grüne Jugend Baden-Württemberg
X-ORIGINAL-URL:https://alt.gjbw.de
X-WR-CALDESC:Veranstaltungen für Grüne Jugend Baden-Württemberg
BEGIN:VEVENT
DTSTART;TZID=UTC+1:20150508T160000
DTEND;TZID=UTC+1:20150510T140000
DTSTAMP:20260421T222952
CREATED:20150305T094432Z
LAST-MODIFIED:20150305T094432Z
UID:1829-1431100800-1431266400@alt.gjbw.de
SUMMARY:Landesmitgliederversammlung
DESCRIPTION:
URL:https://alt.gjbw.de/veranstaltung/landesmitgliederversammlung-3/
END:VEVENT
END:VCALENDAR