BEGIN:VCALENDAR
VERSION:2.0
PRODID:-//Grüne Jugend Baden-Württemberg - ECPv4.6.10.1//NONSGML v1.0//EN
CALSCALE:GREGORIAN
METHOD:PUBLISH
X-WR-CALNAME:Grüne Jugend Baden-Württemberg
X-ORIGINAL-URL:https://alt.gjbw.de
X-WR-CALDESC:Veranstaltungen für Grüne Jugend Baden-Württemberg
BEGIN:VEVENT
DTSTART;TZID=UTC+1:20190518T100000
DTEND;TZID=UTC+1:20190519T170000
DTSTAMP:20260421T083426
CREATED:20190227T102623Z
LAST-MODIFIED:20190507T093331Z
UID:4972-1558173600-1558285200@alt.gjbw.de
SUMMARY:Landesmitgliederversammlung
DESCRIPTION:Komm zu unserer nächsten Landesmitgliederversammlung am 18. und 19. Mai 2019 in Ulm! \nUnser Schwerpunktthema wird die Innenpolitik in Baden-Württemberg sein. Wir diskutieren darüber\, in was für einer Gesellschaft wir leben wollen und wie wir uns als GRÜNE JUGEND Baden-Württemberg in der immerwährenden Abwägung zwischen Freiheits- und Sicherheitsinteressen positionieren wollen. Wie viel Sicherheit verträgt die Freiheit? Wie lässt sich das Zusammenleben in einer Gesellschaft zur Zufriedenheit aller organisieren? Und gegen welche Gesetzesverschärfungen\, wie beispielsweise das geplante Polizeigesetz II\, werden wir auf die Straße gehen müssen\, um unsere Freiheit zu verteidigen? \n\nNeu gewählt wird der gesamte Landesvorstand\, außerdem werden wir Voten für die Wahlen zum Landesvorstand der GRÜNEN vergeben und auch unser neu beschlossenes FYEG-Schnupperticket\, mit dem wir Euch einen Einblick in die europäische GRÜNE JUGEND ermöglichen wollen\, steht zur Wahl – also her mit euren Bewerbungen! \nBitte beachtet\, dass die LMV aufgrund der Kommunal- und Europawahlkämpfe\, in denen wir und ihr alle sehr engagiert sind\, diesmal nur zwei Tage\, nämlich Samstag und Sonntag dauert. \nWeitere Informationen findet ihr unter lmv.gjbw.de \n\n
URL:https://alt.gjbw.de/veranstaltung/landesmitgliederversammlung-6/
ATTACH;FMTTYPE=image/jpeg:https://alt.gjbw.de/wp-content/uploads/2019/02/LMV_HPalt_Slider.jpg
END:VEVENT
END:VCALENDAR