BEGIN:VCALENDAR
VERSION:2.0
PRODID:-//Grüne Jugend Baden-Württemberg - ECPv4.6.10.1//NONSGML v1.0//EN
CALSCALE:GREGORIAN
METHOD:PUBLISH
X-WR-CALNAME:Grüne Jugend Baden-Württemberg
X-ORIGINAL-URL:https://alt.gjbw.de
X-WR-CALDESC:Veranstaltungen für Grüne Jugend Baden-Württemberg
BEGIN:VEVENT
DTSTART;VALUE=DATE:20140502
DTEND;VALUE=DATE:20140505
DTSTAMP:20260422T015305
CREATED:20140220T222502Z
LAST-MODIFIED:20140401T194805Z
UID:1396-1398988800-1399247999@alt.gjbw.de
SUMMARY:Landesmitgliederversammlung
DESCRIPTION:
URL:https://alt.gjbw.de/veranstaltung/landesmitgliederversammlung/
LOCATION:Waldorfschule\, Ulm
END:VEVENT
END:VCALENDAR