BEGIN:VCALENDAR
VERSION:2.0
PRODID:-//Grüne Jugend Baden-Württemberg - ECPv4.6.10.1//NONSGML v1.0//EN
CALSCALE:GREGORIAN
METHOD:PUBLISH
X-WR-CALNAME:Grüne Jugend Baden-Württemberg
X-ORIGINAL-URL:https://alt.gjbw.de
X-WR-CALDESC:Veranstaltungen für Grüne Jugend Baden-Württemberg
BEGIN:VEVENT
DTSTART;TZID=UTC+1:20140302T110000
DTEND;TZID=UTC+1:20140302T170000
DTSTAMP:20260422T015657
CREATED:20140220T221341Z
LAST-MODIFIED:20140220T221341Z
UID:1381-1393758000-1393779600@alt.gjbw.de
SUMMARY:Landesvorstandssitzung
DESCRIPTION:
URL:https://alt.gjbw.de/veranstaltung/landesvorstandssitzung-2/
LOCATION:Stuttgart
END:VEVENT
END:VCALENDAR