BEGIN:VCALENDAR
VERSION:2.0
PRODID:-//Grüne Jugend Baden-Württemberg - ECPv4.6.10.1//NONSGML v1.0//EN
CALSCALE:GREGORIAN
METHOD:PUBLISH
X-WR-CALNAME:Grüne Jugend Baden-Württemberg
X-ORIGINAL-URL:https://alt.gjbw.de
X-WR-CALDESC:Veranstaltungen für Grüne Jugend Baden-Württemberg
BEGIN:VEVENT
DTSTART;TZID=UTC+1:20140413T110000
DTEND;TZID=UTC+1:20140413T180000
DTSTAMP:20260422T001920
CREATED:20140220T222238Z
LAST-MODIFIED:20140306T193826Z
UID:1393-1397386800-1397412000@alt.gjbw.de
SUMMARY:Landesvorstandssitzung
DESCRIPTION:
URL:https://alt.gjbw.de/veranstaltung/landesvorstandssitzung-3/
LOCATION:LGS\, Stuttgart
END:VEVENT
END:VCALENDAR