BEGIN:VCALENDAR
VERSION:2.0
PRODID:-//Grüne Jugend Baden-Württemberg - ECPv4.6.10.1//NONSGML v1.0//EN
CALSCALE:GREGORIAN
METHOD:PUBLISH
X-WR-CALNAME:Grüne Jugend Baden-Württemberg
X-ORIGINAL-URL:https://alt.gjbw.de
X-WR-CALDESC:Veranstaltungen für Grüne Jugend Baden-Württemberg
BEGIN:VEVENT
DTSTART;TZID=UTC+1:20160717T100000
DTEND;TZID=UTC+1:20160717T220000
DTSTAMP:20260421T183034
CREATED:20160622T132622Z
LAST-MODIFIED:20160622T132622Z
UID:2619-1468749600-1468792800@alt.gjbw.de
SUMMARY:Landesvorstandssitzung
DESCRIPTION:
URL:https://alt.gjbw.de/veranstaltung/landesvorstandssitzung-4/
LOCATION:Ulm
END:VEVENT
END:VCALENDAR