BEGIN:VCALENDAR
VERSION:2.0
PRODID:-//Grüne Jugend Baden-Württemberg - ECPv4.6.10.1//NONSGML v1.0//EN
CALSCALE:GREGORIAN
METHOD:PUBLISH
X-WR-CALNAME:Grüne Jugend Baden-Württemberg
X-ORIGINAL-URL:https://alt.gjbw.de
X-WR-CALDESC:Veranstaltungen für Grüne Jugend Baden-Württemberg
BEGIN:VEVENT
DTSTART;TZID=UTC+1:20180909T110000
DTEND;TZID=UTC+1:20180909T170000
DTSTAMP:20260421T173740
CREATED:20180606T120510Z
LAST-MODIFIED:20180808T084551Z
UID:4481-1536490800-1536512400@alt.gjbw.de
SUMMARY:Landesvorstandssitzung
DESCRIPTION:
URL:https://alt.gjbw.de/veranstaltung/landesvorstandssitzung-5/
ATTACH;FMTTYPE=image/jpeg:https://alt.gjbw.de/wp-content/uploads/2018/06/2018_LaVo_gesamt_FB.jpg
END:VEVENT
END:VCALENDAR