BEGIN:VCALENDAR
VERSION:2.0
PRODID:-//Grüne Jugend Baden-Württemberg - ECPv4.6.10.1//NONSGML v1.0//EN
CALSCALE:GREGORIAN
METHOD:PUBLISH
X-WR-CALNAME:Grüne Jugend Baden-Württemberg
X-ORIGINAL-URL:https://alt.gjbw.de
X-WR-CALDESC:Veranstaltungen für Grüne Jugend Baden-Württemberg
BEGIN:VEVENT
DTSTART;TZID=UTC+1:20181021T110000
DTEND;TZID=UTC+1:20181021T170000
DTSTAMP:20260421T161807
CREATED:20180606T120639Z
LAST-MODIFIED:20180808T090203Z
UID:4485-1540119600-1540141200@alt.gjbw.de
SUMMARY:Landesvorstandssitzung
DESCRIPTION:
URL:https://alt.gjbw.de/veranstaltung/landesvorstandssitzung-6/
ATTACH;FMTTYPE=image/jpeg:https://alt.gjbw.de/wp-content/uploads/2018/06/2018_LaVo_gesamt_FB.jpg
END:VEVENT
END:VCALENDAR