BEGIN:VCALENDAR
VERSION:2.0
PRODID:-//Grüne Jugend Baden-Württemberg - ECPv4.6.10.1//NONSGML v1.0//EN
CALSCALE:GREGORIAN
METHOD:PUBLISH
X-WR-CALNAME:Grüne Jugend Baden-Württemberg
X-ORIGINAL-URL:https://alt.gjbw.de
X-WR-CALDESC:Veranstaltungen für Grüne Jugend Baden-Württemberg
BEGIN:VEVENT
DTSTART;TZID=UTC+1:20151114T110000
DTEND;TZID=UTC+1:20151115T170000
DTSTAMP:20260421T203904
CREATED:20151014T135026Z
LAST-MODIFIED:20151014T135026Z
UID:2182-1447498800-1447606800@alt.gjbw.de
SUMMARY:Landesvorstandssitzung in Stuttgart
DESCRIPTION:
URL:https://alt.gjbw.de/veranstaltung/landesvorstandssitzung-in-stuttgart-2/
LOCATION:Elwertstr. 2\, Stuttgart
END:VEVENT
END:VCALENDAR