BEGIN:VCALENDAR
VERSION:2.0
PRODID:-//Grüne Jugend Baden-Württemberg - ECPv4.6.10.1//NONSGML v1.0//EN
CALSCALE:GREGORIAN
METHOD:PUBLISH
X-WR-CALNAME:Grüne Jugend Baden-Württemberg
X-ORIGINAL-URL:https://alt.gjbw.de
X-WR-CALDESC:Veranstaltungen für Grüne Jugend Baden-Württemberg
BEGIN:VEVENT
DTSTART;TZID=UTC+1:20131215T110000
DTEND;TZID=UTC+1:20131215T170000
DTSTAMP:20260422T015040
CREATED:20131126T180854Z
LAST-MODIFIED:20131126T181451Z
UID:986-1387105200-1387126800@alt.gjbw.de
SUMMARY:Landesvorstandssitzung
DESCRIPTION:Der Landesvorstand tagt wie immer mitgliederöffentlich. \n
URL:https://alt.gjbw.de/veranstaltung/landesvorstandssitzung/
LOCATION:Freiburg
END:VEVENT
END:VCALENDAR