BEGIN:VCALENDAR
VERSION:2.0
PRODID:-//Grüne Jugend Baden-Württemberg - ECPv4.6.10.1//NONSGML v1.0//EN
CALSCALE:GREGORIAN
METHOD:PUBLISH
X-WR-CALNAME:Grüne Jugend Baden-Württemberg
X-ORIGINAL-URL:https://alt.gjbw.de
X-WR-CALDESC:Veranstaltungen für Grüne Jugend Baden-Württemberg
BEGIN:VEVENT
DTSTART;TZID=UTC+1:20171208T214500
DTEND;TZID=UTC+1:20171208T230000
DTSTAMP:20260421T133722
CREATED:20171201T110752Z
LAST-MODIFIED:20171204T130050Z
UID:3762-1512769500-1512774000@alt.gjbw.de
SUMMARY:MÜNDIGKEIT FIRST\, bye bye Alkoholverkaufsverbot!
DESCRIPTION:Komm zu unserem DRINK TOGETHER! \nWir stehen für Selbstbestimmung\, auch beim Feierabendbier. Deshalb haben wir uns entschlossen dafür eingesetzt\, dass das nächtliche Alkoholverkaufsverbot abgeschafft wird. Und wir hatten Erfolg: Am 8. Dezember 2017 fällt das Gesetz und mündige Menschen können endlich wieder selbst entscheiden\, wann sie ihr Feierabendbier kaufen. \nDas wollen wir feiern! Deshalb laden wir dazu ein\, bei einem DRINK TOGETHER gemeinsam mit uns das erste Bier nach zehn zu kaufen und auf diesen Erfolg anzustoßen. \nWir treffen uns am 8.12.2017 um 21.45 Uhr am Marienplatz im Stuttgarter Süden. \n  \nIhr wollt in Eurer Ortsgruppe auch ein Drink Together veranstalten? Wendet Euch für weitere Infos gerne an den Landesvorstand oder unsere Landesgeschäftstelle. \n
URL:https://alt.gjbw.de/veranstaltung/muendigkeit-first-bye-bye-alkoholverkaufsverbot/
END:VEVENT
END:VCALENDAR