BEGIN:VCALENDAR
VERSION:2.0
PRODID:-//Grüne Jugend Baden-Württemberg - ECPv4.6.10.1//NONSGML v1.0//EN
CALSCALE:GREGORIAN
METHOD:PUBLISH
X-WR-CALNAME:Grüne Jugend Baden-Württemberg
X-ORIGINAL-URL:https://alt.gjbw.de
X-WR-CALDESC:Veranstaltungen für Grüne Jugend Baden-Württemberg
BEGIN:VEVENT
DTSTART;TZID=UTC+1:20150124T140000
DTEND;TZID=UTC+1:20150125T140000
DTSTAMP:20260421T221814
CREATED:20150119T142343Z
LAST-MODIFIED:20150119T142607Z
UID:1812-1422108000-1422194400@alt.gjbw.de
SUMMARY:Neujahrsempfang
DESCRIPTION:
URL:https://alt.gjbw.de/veranstaltung/neujahrsempang/
LOCATION:Karlsruhe
END:VEVENT
END:VCALENDAR