BEGIN:VCALENDAR
VERSION:2.0
PRODID:-//Grüne Jugend Baden-Württemberg - ECPv4.6.10.1//NONSGML v1.0//EN
CALSCALE:GREGORIAN
METHOD:PUBLISH
X-WR-CALNAME:Grüne Jugend Baden-Württemberg
X-ORIGINAL-URL:https://alt.gjbw.de
X-WR-CALDESC:Veranstaltungen für Grüne Jugend Baden-Württemberg
BEGIN:VEVENT
DTSTART;TZID=UTC+1:20161119T110000
DTEND;TZID=UTC+1:20161120T160000
DTSTAMP:20260421T153738
CREATED:20160622T142115Z
LAST-MODIFIED:20160622T142115Z
UID:2631-1479553200-1479657600@alt.gjbw.de
SUMMARY:Parteitag Bündnis 90/Die Grünen Baden-Württemberg
DESCRIPTION:Schwerpunkt unseres zweitägigen Parteitags im November wird die Aufstellung der Landesliste für die Bundestagswahl 2017 sein. Weitere Informationen werden noch ergänzt. \nWeitere Infos: gruene-bw.de/termine-parteitag-landesdelegiertenkonferenz-schwaebisch-gmuend \n
URL:https://alt.gjbw.de/veranstaltung/parteitag-buendnis-90die-gruenen-baden-wuerttemberg/
LOCATION:Rektor-Klaus-Straße 9\, Schwäbisch Gmünd
END:VEVENT
END:VCALENDAR