BEGIN:VCALENDAR
VERSION:2.0
PRODID:-//Grüne Jugend Baden-Württemberg - ECPv4.6.10.1//NONSGML v1.0//EN
CALSCALE:GREGORIAN
METHOD:PUBLISH
X-WR-CALNAME:Grüne Jugend Baden-Württemberg
X-ORIGINAL-URL:https://alt.gjbw.de
X-WR-CALDESC:Veranstaltungen für Grüne Jugend Baden-Württemberg
BEGIN:VEVENT
DTSTART;TZID=UTC+1:20160430T070000
DTEND;TZID=UTC+1:20160430T170000
DTSTAMP:20260421T202116
CREATED:20160408T224841Z
LAST-MODIFIED:20160408T230652Z
UID:2522-1461999600-1462035600@alt.gjbw.de
SUMMARY:Proteste gegen den AfD-Bundesparteitag
DESCRIPTION:Gemeinsam widersetzen! Aktiv werden gegen den AfD-Bundesprogrammparteitag in Stuttgart!\nWir unterstützen das Aktionsbündnis gegen den AfD-Bundesparteitag. \nAm letzten Aprilwochenende plant die rassistische AfD ihren Bundesprogrammparteitag in der Landesmesse am Stuttgarter Flughafen durchzuführen. Das können und wollen wir nicht hinnehmen:\nWir werden am 30. April 2016 schon am frühen Morgen dort sein\, wo die AfD ihren Parteitag abhalten will und setzen auf vielfältigen Widerstand und breiten gesellschaftlichen Protest. \nDenn: Es gibt eine breite gesellschaftliche Mehrheit gegen die homophobe\, rassistische\, antifeministische Politik der AfD\, die zudem ganz direkt gegen die Interessen der Erwerbsabhängigen gerichtet ist.\nWir rufen alle\, die kein Interesse an einer Verschärfung der Verhältnisse haben\, auf\, selbst aktiv zu werden. Macht dem Programmparteitag mit spürbarem Protest einen Strich durch die Rechnung!\nSolidarität statt Spaltung!\nGemeinsam gegen den AfD-Bundesparteitag – für ein solidarisches Miteinander! \n>> Morgens: Aktionen & Proteste an der Messe\n>> Mittags: Demonstration in der Stuttgarter Innenstadt \n
URL:https://alt.gjbw.de/veranstaltung/proteste-gegen-den-afd-bundesparteitag/
ATTACH;FMTTYPE=image/jpeg:https://alt.gjbw.de/wp-content/uploads/2016/04/gemeinsam-widersetzen.jpg
END:VEVENT
END:VCALENDAR