BEGIN:VCALENDAR
VERSION:2.0
PRODID:-//Grüne Jugend Baden-Württemberg - ECPv4.6.10.1//NONSGML v1.0//EN
CALSCALE:GREGORIAN
METHOD:PUBLISH
X-WR-CALNAME:Grüne Jugend Baden-Württemberg
X-ORIGINAL-URL:https://alt.gjbw.de
X-WR-CALDESC:Veranstaltungen für Grüne Jugend Baden-Württemberg
BEGIN:VEVENT
DTSTART;TZID=UTC+1:20161104T160000
DTEND;TZID=UTC+1:20161106T150000
DTSTAMP:20260421T173401
CREATED:20160622T140648Z
LAST-MODIFIED:20161020T102256Z
UID:2629-1478275200-1478444400@alt.gjbw.de
SUMMARY:Was ist das für 1 Wirtschaft?! - Landesmitgliederversammlung GJBW
DESCRIPTION: \nUnser Schwerpunktthema wird Wirtschaftspolitik sein und wir freuen uns deshalb sehr\, dass wir zum Einstieg in unser LMV-Wochenende den renommierten Wirtschaftswissenschaftler Heiner Flassbeck für eine öffentliche Veranstaltung in Kooperation mit attac Tübingen gewinnen konnten.\nInhaltlich wird es neben der Antragsdebatte zur Wirtschaftsresolution auch wieder spannende Workshops zum Thema Divestment\, Gemeinwohlökonomie und Frauen in der Wirtschaft geben.\nAußerdem wählen wir an diesem Wochenende die Zitroredaktion und den Koordinationskreis Bildung.\nDer Spaß und das Feiern kommen auf unserer LMV natürlich auch nicht zu kurz\, es wird eine tolle Aktion in der Tübinger Innenstadt und eine legendäre LMV-Party geben. \nWeitere Infos und Anmeldung gibts unter lmv.gjbw.de \n
URL:https://alt.gjbw.de/veranstaltung/safe-the-date-landesmitgliederversammlung-gjbw/
LOCATION:Rotdornweg 30\, Tübingen
END:VEVENT
END:VCALENDAR