BEGIN:VCALENDAR
VERSION:2.0
PRODID:-//Grüne Jugend Baden-Württemberg - ECPv4.6.10.1//NONSGML v1.0//EN
CALSCALE:GREGORIAN
METHOD:PUBLISH
X-WR-CALNAME:Grüne Jugend Baden-Württemberg
X-ORIGINAL-URL:https://alt.gjbw.de
X-WR-CALDESC:Veranstaltungen für Grüne Jugend Baden-Württemberg
BEGIN:VEVENT
DTSTART;TZID=UTC+1:20170729T140000
DTEND;TZID=UTC+1:20170729T190000
DTSTAMP:20260421T133616
CREATED:20170209T165618Z
LAST-MODIFIED:20170706T084045Z
UID:3088-1501336800-1501354800@alt.gjbw.de
SUMMARY:Christopher Street Day Stuttgart
DESCRIPTION:Auch in diesem Jahr wird die GRÜNE JUGEND wieder mit einer Fußgruppe bei der Politparade des Stuttgarter CSD vertreten sein. \nDiese ist als politische Demonstration nach dem Versammlungsrecht angelegt und dient dazu\, die politischen und gesellschaftlichen Forderungen von lesbischen\, schwulen\, bisexuellen\, transsexuellen\, transgender\, intersexuellen und queeren Menschen öffentlich darzustellen. \nAm Samstag\, den 29. Juli 2017 startet um 15:30 Uhr – Achtung: eine halbe Stunde früher als in den Vorjahren (!) – der Marsch für die vollständige rechtliche Gleichberechtigung und gesellschaftliche Akzeptanz der Regenbogen-Community durch die Stuttgarter Innenstadt. Die CSD-Demo steht in diesem Jahr unter dem Motto PERSPEKTIV-WECHSEL. \nAblauf \n\n\n\n12:30 bis 15:30 Uhr – Aufstellung des Zuges in der Böblinger Straße ab Erwin Schöttle Platz stadteinwärts\n15:30 bis 18:15 Uhr – politische Demonstration unter dem Motto PERSPEKTIV-WECHSEL durch die Innenstadt\n18:15 bis 19:00 Uhr – Kundgebung zu den LSBTTIQ-Forderungen auf dem Schlossplatz\n\nWeitere Infos\, auch zu allen anderen Veranstaltungen rund um den Christopher Street Day in Stuttgart\, gibt es hier. \n\n\n
URL:https://alt.gjbw.de/veranstaltung/save-the-date-csd-stuttgart/
END:VEVENT
END:VCALENDAR