BEGIN:VCALENDAR
VERSION:2.0
PRODID:-//Grüne Jugend Baden-Württemberg - ECPv4.6.10.1//NONSGML v1.0//EN
CALSCALE:GREGORIAN
METHOD:PUBLISH
X-WR-CALNAME:Grüne Jugend Baden-Württemberg
X-ORIGINAL-URL:https://alt.gjbw.de
X-WR-CALDESC:Veranstaltungen für Grüne Jugend Baden-Württemberg
BEGIN:VEVENT
DTSTART;TZID=UTC+1:20160401T160000
DTEND;TZID=UTC+1:20160403T143000
DTSTAMP:20260421T201918
CREATED:20160126T111107Z
LAST-MODIFIED:20160315T155751Z
UID:2300-1459526400-1459693800@alt.gjbw.de
SUMMARY:Integreat - Integration isch subbr! Landesmitgliederversammlung
DESCRIPTION:Vom 1. bis 3. April findet in Freiburg unsere nächste Landesmitgliederversammlung statt! Unser Schwerpunktthema wird der Themenkomplex der Integration sein. Desweiteren werden wir uns mit dem Ergebnis der Landtagswahl beschäftigen und unsere eigene Meinung zu den Koalitionsverhandlungen erarbeiten. \nAußerdem wählen wir an diesem Wochenende die Beisitzer*innenplätze für den Landesvorstand neu\, sowie die Frauen- und Genderpolitische Sprecherin\, das Landesschiedsgericht und die Landesrechnungsprüfer*innen. \nInhaltlich gibt es neben spannenden Workshops zum Thema Integration die Möglichkeit\, euer politisches Wissen auszubauen und mit anderen Menschen über die Themen zu diskutieren. Der Spaß und das Feiern kommen auf unserer LMV natürlich auch nicht zu kurz. \nAnmeldung\, Programm und weitere Infos gibt’s unter lmv.gjbw.de \n
URL:https://alt.gjbw.de/veranstaltung/save-the-date-landesmitgliederversammlung/
LOCATION:Ingeborg-Drewitz-Allee 1\, Freiburg
END:VEVENT
END:VCALENDAR