BEGIN:VCALENDAR
VERSION:2.0
PRODID:-//Grüne Jugend Baden-Württemberg - ECPv4.6.10.1//NONSGML v1.0//EN
CALSCALE:GREGORIAN
METHOD:PUBLISH
X-WR-CALNAME:Grüne Jugend Baden-Württemberg
X-ORIGINAL-URL:https://alt.gjbw.de
X-WR-CALDESC:Veranstaltungen für Grüne Jugend Baden-Württemberg
BEGIN:VEVENT
DTSTART;TZID=UTC+1:20170728T190000
DTEND;TZID=UTC+1:20170728T223000
DTSTAMP:20260421T133814
CREATED:20170209T170635Z
LAST-MODIFIED:20170705T150310Z
UID:3089-1501268400-1501281000@alt.gjbw.de
SUMMARY:Regenbogenempfang Grüne BW
DESCRIPTION:\nAm Vorabend der CSD-Polit-Parade lädt der Landesverband der Grünen Baden-Württemberg zum Regenbogenempfang ein. Für Akzeptanz und gleiche Rechte haben wir in den vergangenen Jahren gemeinsam viel erreicht – und wir haben noch viel vor! Wir arbeiten weiter für ein modernes und regenbogenbuntes Baden-Württemberg. Bei Sekt und Häppchen wollen wir mit Euch ins Gespräch kommen und gemeinsam Vielfalt feiern. \nMit dabei sind:\n• Volker Beck\, Bundestagsabgeordneter\n• Brigitte Lösch\, Landtagsabgeordnete\n• Oliver Hildenbrand\, Landesvorsitzender\n• Zu Gast: LSBTTIQ-Aktivist*innen von Shams aus Tunesien \n\n
URL:https://alt.gjbw.de/veranstaltung/save-the-date-regenbogenempfang-gruene-bw/
LOCATION:Königstr. 78\, Stuttgart
END:VEVENT
END:VCALENDAR