BEGIN:VCALENDAR
VERSION:2.0
PRODID:-//Grüne Jugend Baden-Württemberg - ECPv4.6.10.1//NONSGML v1.0//EN
CALSCALE:GREGORIAN
METHOD:PUBLISH
X-WR-CALNAME:Grüne Jugend Baden-Württemberg
X-ORIGINAL-URL:https://alt.gjbw.de
X-WR-CALDESC:Veranstaltungen für Grüne Jugend Baden-Württemberg
BEGIN:VEVENT
DTSTART;TZID=UTC+1:20190308T180000
DTEND;TZID=UTC+1:20190308T200000
DTSTAMP:20260421T083910
CREATED:20190227T103655Z
LAST-MODIFIED:20190227T103655Z
UID:4974-1552068000-1552075200@alt.gjbw.de
SUMMARY:Schluss mit lustig! Von Frauen\, Politik und dem Umgang mit Beleidigungen
DESCRIPTION:Die Bundessprecherin der Grünen Jugend\, Ricarda Lang\, ist bei ihrer politischen Arbeit vielen Angriffen ausgesetzt. Ob auf Twitter oder Facebook sind Beleidigungen wie „fette Sau“ und Adjektive wie „widerlich“ und „abstoßend“ an der Tagesordnung. So traurig wie wahr: Frauen\, die sich politisch äußern\, werden schnell zur Zielscheibe persönlicher Angriffe – und genau damit muss jetzt Schluss sein. \nMüssen Frauen wirklich mit solchen Anfeindungen leben\, wenn sie sich politisch engagieren wollen? Warum werden die Angriffe so viel schneller persönlich als bei Männern und wie passen die Hasskommentare zur allgemeinen politischen Lage? Warum sind feministische Errungenschaften gefährdet genau in dem Jahr\, in dem wir 100 Jahre Frauenwahlrecht feiern? \nÜber diese und andere Fragen\, die Euch bewegen\, wollen Sandra Detzer\, Landesvorsitzende der Grünen\, und Ricarda Lang am Internationalen Frauentag diskutieren und laden Euch zu einem Erfahrungsaustausch ein. Gemeinsam sollen Strategien entwickelt werden\, wie wir mit Beleidigungen umgehen und uns gegenseitig stärken können. Denn unser Ziel ist klar: Wir wollen die Hälfte der Macht! \nAnmeldung unter: https://www.gruene-bw.de/termine-schluss-mit-lustig-von-frauen-politik-und-dem-umgang-mit-beleidigungen/ \n
URL:https://alt.gjbw.de/veranstaltung/schluss-mit-lustig-von-frauen-politik-und-dem-umgang-mit-beleidigungen/
LOCATION:Königstraße 78\, Stuttgart
END:VEVENT
END:VCALENDAR