BEGIN:VCALENDAR
VERSION:2.0
PRODID:-//Grüne Jugend Baden-Württemberg - ECPv4.6.10.1//NONSGML v1.0//EN
CALSCALE:GREGORIAN
METHOD:PUBLISH
X-WR-CALNAME:Grüne Jugend Baden-Württemberg
X-ORIGINAL-URL:https://alt.gjbw.de
X-WR-CALDESC:Veranstaltungen für Grüne Jugend Baden-Württemberg
BEGIN:VEVENT
DTSTART;TZID=UTC+1:20170702T080000
DTEND;TZID=UTC+1:20170702T170000
DTSTAMP:20260421T133854
CREATED:20170426T102447Z
LAST-MODIFIED:20170428T123356Z
UID:3268-1498982400-1499014800@alt.gjbw.de
SUMMARY:Seminar "F*ck you\, Konsens"
DESCRIPTION:Landespolitik? … Langweilig? Nein! \nSeit 2016 regiert in Baden-Württemberg die erste grün-schwarze Koalition\, 2011 läutete Grün-Rot den Politikwechsel ein. Für uns als politische Jugendorganisation auf Landesebene ist die Auseinandersetzung mit der Landespolitik ein wichtiger Punkt unserer Arbeit. Dabei gibt es viele spannende Fragen: Was ist unser Selbstverständnis als Grüne Jugend Baden-Württemberg\, was wollen wir landespolitisch erreichen und wie wollen wir das tun? Was sind die Herausforderung in einer grün-schwarzen Koalitionsregierung? Was ist die Rolle der Grünen dabei? \nDu hast dir diese Fragen auch schon einmal gestellt? Oder du hast Ideen? Und du möchtest mit denen darüber reden\, die zuständig sind? Dann bist du bei unserem Seminar „F*ck you\, Konsens“ am 2. Juli genau richtig. Dabei werden wir u.a. mit dem Grünen-Landesvorsitzenden Oliver Hildenbrand und den Grünen-Landesvorstandsmitgliedern Jessica Messinger und Marcel Emmerich diskutieren. \nWeitere Informationen folgen bald. \n
URL:https://alt.gjbw.de/veranstaltung/seminar-fck-you-konsens/
END:VEVENT
END:VCALENDAR