BEGIN:VCALENDAR
VERSION:2.0
PRODID:-//Grüne Jugend Baden-Württemberg - ECPv4.6.10.1//NONSGML v1.0//EN
CALSCALE:GREGORIAN
METHOD:PUBLISH
X-WR-CALNAME:Grüne Jugend Baden-Württemberg
X-ORIGINAL-URL:https://alt.gjbw.de
X-WR-CALDESC:Veranstaltungen für Grüne Jugend Baden-Württemberg
BEGIN:VEVENT
DTSTART;VALUE=DATE:20141017
DTEND;VALUE=DATE:20141019
DTSTAMP:20260421T222829
CREATED:20140925T125244Z
LAST-MODIFIED:20140925T125244Z
UID:1774-1413504000-1413676799@alt.gjbw.de
SUMMARY:Seminar "Globale Gerechtigkeit"
DESCRIPTION:
URL:https://alt.gjbw.de/veranstaltung/seminar-globale-gerechtigkeit/
END:VEVENT
END:VCALENDAR