BEGIN:VCALENDAR
VERSION:2.0
PRODID:-//Grüne Jugend Baden-Württemberg - ECPv4.6.10.1//NONSGML v1.0//EN
CALSCALE:GREGORIAN
METHOD:PUBLISH
X-WR-CALNAME:Grüne Jugend Baden-Württemberg
X-ORIGINAL-URL:https://alt.gjbw.de
X-WR-CALDESC:Veranstaltungen für Grüne Jugend Baden-Württemberg
BEGIN:VEVENT
DTSTART;TZID=UTC+1:20160709T090000
DTEND;TZID=UTC+1:20160709T173000
DTSTAMP:20260421T182818
CREATED:20160622T130839Z
LAST-MODIFIED:20160622T130839Z
UID:2612-1468054800-1468085400@alt.gjbw.de
SUMMARY:Seminar zu Postwachstum
DESCRIPTION:Die Grüne Jugend Heidelberg veranstaltet am 09.07.2016 ein Seminar zu den Themen „Grenzen des Wachstums“ und „nachhaltige Entwicklung“ in Heidelberg. \nReferent*innen sind u.a. Prof. von Hauff (TU Kaiserslautern)\, Prof. Goeschel (Universität Heidelberg) und Mitglieder der Initiative „Real World Economics“. \nIm Seminar diskutieren wir über alternative Modelle des Wirtschaftens\, von ressourceneffizientem\, grünem Wachstum bis hin zu Modellen des Zero Growth. Ziel des Seminars ist\, eigene Positionen zum Thema Wirtschaftswachstum zu entwickeln. Praktische Beispiele aus der Sharing Economy sollen zudem Pfade in die Postwachstumsgesellschaft aufzeigen. \nUm die Essensmengen für Frühstück und Mittagessen richtig einplanen zu können\, wird um Anmeldung gebeten:\ngj@gruene-heidelberg.de \nAuf dem Laufenden bleibt ihr mit dem Facebook-Event. \nWir freuen uns auf eine rege Beteiligung! \n
URL:https://alt.gjbw.de/veranstaltung/seminar-zu-postwachstum/
LOCATION:Heidelberg
END:VEVENT
END:VCALENDAR