BEGIN:VCALENDAR
VERSION:2.0
PRODID:-//Grüne Jugend Baden-Württemberg - ECPv4.6.10.1//NONSGML v1.0//EN
CALSCALE:GREGORIAN
METHOD:PUBLISH
X-WR-CALNAME:Grüne Jugend Baden-Württemberg
X-ORIGINAL-URL:https://alt.gjbw.de
X-WR-CALDESC:Veranstaltungen für Grüne Jugend Baden-Württemberg
BEGIN:VEVENT
DTSTART;VALUE=DATE:20170803
DTEND;VALUE=DATE:20170807
DTSTAMP:20260421T134248
CREATED:20170209T170948Z
LAST-MODIFIED:20170209T171039Z
UID:3094-1501718400-1502063999@alt.gjbw.de
SUMMARY:Sommerakademie des GJ-Bundesverbandes
DESCRIPTION:Weitere Infos folgen. \n
URL:https://alt.gjbw.de/veranstaltung/sommerakademie-des-gj-bundesverbandes/
END:VEVENT
END:VCALENDAR