BEGIN:VCALENDAR
VERSION:2.0
PRODID:-//Grüne Jugend Baden-Württemberg - ECPv4.6.10.1//NONSGML v1.0//EN
CALSCALE:GREGORIAN
METHOD:PUBLISH
X-WR-CALNAME:Grüne Jugend Baden-Württemberg
X-ORIGINAL-URL:https://alt.gjbw.de
X-WR-CALDESC:Veranstaltungen für Grüne Jugend Baden-Württemberg
BEGIN:VEVENT
DTSTART;VALUE=DATE:20150806
DTEND;VALUE=DATE:20150810
DTSTAMP:20260421T235650
CREATED:20150721T101143Z
LAST-MODIFIED:20150721T101243Z
UID:2033-1438819200-1439164799@alt.gjbw.de
SUMMARY:Sommerakademie 2015
DESCRIPTION:Die Sommerakademie der GRÜNEN JUGEND\, der GRÜNEN JUGEND Bayern und der GRÜNEN JUGEND Baden-Württemberg. \n
URL:https://alt.gjbw.de/veranstaltung/sommerakademie_2015/
END:VEVENT
END:VCALENDAR