BEGIN:VCALENDAR
VERSION:2.0
PRODID:-//Grüne Jugend Baden-Württemberg - ECPv4.6.10.1//NONSGML v1.0//EN
CALSCALE:GREGORIAN
METHOD:PUBLISH
X-WR-CALNAME:Grüne Jugend Baden-Württemberg
X-ORIGINAL-URL:https://alt.gjbw.de
X-WR-CALDESC:Veranstaltungen für Grüne Jugend Baden-Württemberg
BEGIN:VEVENT
DTSTART;VALUE=DATE:20140908
DTEND;VALUE=DATE:20140912
DTSTAMP:20260422T002136
CREATED:20140805T112314Z
LAST-MODIFIED:20140805T112341Z
UID:1744-1410134400-1410479999@alt.gjbw.de
SUMMARY:Sommercamp 2014 
DESCRIPTION:
URL:https://alt.gjbw.de/veranstaltung/sommercamp-2014-lindau-bodensee/
END:VEVENT
END:VCALENDAR