BEGIN:VCALENDAR
VERSION:2.0
PRODID:-//Grüne Jugend Baden-Württemberg - ECPv4.6.10.1//NONSGML v1.0//EN
CALSCALE:GREGORIAN
METHOD:PUBLISH
X-WR-CALNAME:Grüne Jugend Baden-Württemberg
X-ORIGINAL-URL:https://alt.gjbw.de
X-WR-CALDESC:Veranstaltungen für Grüne Jugend Baden-Württemberg
BEGIN:VEVENT
DTSTART;TZID=UTC+1:20161119T204500
DTEND;TZID=UTC+1:20161120T000000
DTSTAMP:20260421T152317
CREATED:20161020T171350Z
LAST-MODIFIED:20161020T171350Z
UID:2821-1479588300-1479600000@alt.gjbw.de
SUMMARY:Stachelwächter*party | 25 Jahre GJBW
DESCRIPTION:Man mag es kaum glauben: it’s 2016 und die GJBW wird sage und schreibe ein Vierteljahrhundert alt! \nDas sind 25 Jahre junggrüne Politik\,\ndas sind 25 Jahre Stacheln – mal eher von rechts\, zum Glück schon lange von links\,\ndas sind 25 Jahre Zukunftsvisionen\, Vordenken und Anecken\,\ndas sind 25 Jahre Aktivismus\, Grundlagenarbeit und Ziele erreichen\,\ndas sind 25 Jahre Freundschaften\, Beziehungen und Polygamie\nund 25 Jahre\, in denen wir überzeugt\, genervt\, aber letztlich das gute Leben für alle eingefordert und es selbst gefeiert haben. \nDaran wollen wir dich so gerne teilhaben lassen! Wir schmeißen ein fette\, fette Party im Anschluss an die Listen-LDK (Parteitag BÜNDNIS 90/DIE GRÜNEN Baden-Württemberg) am 19.11. \n// Wo? Congress-Centrum Stadtgarten\, Rektor-Klaus-Straße 9\, 73525 Schwäbisch Gmünd // Hans-Baldung-Grien-Saal\n// Wann? 19.11. ab etwa 20:45 Uhr\n// Wer noch? Allerlei GJBW-Aktive\, Ehemalige\, Sympathisant*innen\, Nicht-so-Wohlgesonnene sowie Freundinnen und Freunde.\n// Isch des au bio? Ja\, es gibt veganes Fingerfood\, Sekt auf’s Haus und ausdruckbare Selfies!\n// Auf Facebook teilnehmen? Voll gerne! \nLeute\, wir freuen uns auf euch! \n
URL:https://alt.gjbw.de/veranstaltung/stachelwaechterparty-25-jahre-gjbw/
LOCATION:Rektor-Klaus-Straße 9\, Schwäbisch Gmünd\, 73525\, Deutschland
ATTACH;FMTTYPE=image/jpeg:https://alt.gjbw.de/wp-content/uploads/2016/10/Stachelwächterparty_final.jpg
END:VEVENT
END:VCALENDAR